BEGIN:VCALENDAR
VERSION:2.0
PRODID:-//The Church In Roseville - ECPv5.9.0//NONSGML v1.0//EN
CALSCALE:GREGORIAN
METHOD:PUBLISH
X-WR-CALNAME:The Church In Roseville
X-ORIGINAL-URL:http://www.churchinroseville.org
X-WR-CALDESC:Events for The Church In Roseville
BEGIN:VTIMEZONE
TZID:America/Los_Angeles
BEGIN:DAYLIGHT
TZOFFSETFROM:-0800
TZOFFSETTO:-0700
TZNAME:PDT
DTSTART:20220313T100000
END:DAYLIGHT
BEGIN:STANDARD
TZOFFSETFROM:-0700
TZOFFSETTO:-0800
TZNAME:PST
DTSTART:20221106T090000
END:STANDARD
END:VTIMEZONE
BEGIN:VEVENT
DTSTART;TZID=America/Los_Angeles:20220704T193000
DTEND;TZID=America/Los_Angeles:20220716T170000
DTSTAMP:20260419T053538
CREATED:20210622T211820Z
LAST-MODIFIED:20220419T041331Z
UID:1012-1656963000-1657990800@www.churchinroseville.org
SUMMARY:2022 July training
DESCRIPTION:1Kings & 2Kings
URL:http://www.churchinroseville.org/calendar/2021-july-training/
LOCATION:Zoom link
ORGANIZER;CN="Bill%20Janzen":MAILTO:bjanzen2001@gmail.com
END:VEVENT
END:VCALENDAR